BEGIN:VCALENDAR
VERSION:2.0
PRODID:-//wp-events-plugin.com//7.2.3.1//EN
TZID:America/Los_Angeles
X-WR-TIMEZONE:America/Los_Angeles
BEGIN:VEVENT
UID:763@btrpc.com
DTSTART;TZID=America/Los_Angeles:20261212T090000
DTEND;TZID=America/Los_Angeles:20261212T140000
DTSTAMP:20260218T001824Z
URL:https://btrpc.com/events/22-rimfire-benchrest-rifle-match-6/
SUMMARY:.22 Rimfire Benchrest Rifle Match
DESCRIPTION:Start time 9:00am. Benchrest rifle match. 40 round match with 1
 0 sighters (50 total). Shoot at small steel silhouette targets at 100\, 15
 0\, 200 and 300 meters. $5 entry fee. Contact Dan Geisert for more informa
 tion 971-241-8658
CATEGORIES:Rifle Range,Single or Partial Range CLOSED for Event
LOCATION:Big Timber Rifle and Pistol Club\, 158 Wade Rd\, Siletz\, Oregon\,
  97380\, United States
X-APPLE-STRUCTURED-LOCATION;VALUE=URI;X-ADDRESS=158 Wade Rd\, Siletz\, Oreg
 on\, 97380\, United States;X-APPLE-RADIUS=100;X-TITLE=Big Timber Rifle and
  Pistol Club:geo:0,0
END:VEVENT
BEGIN:VTIMEZONE
TZID:America/Los_Angeles
X-LIC-LOCATION:America/Los_Angeles
BEGIN:STANDARD
DTSTART:20261101T010000
TZOFFSETFROM:-0700
TZOFFSETTO:-0800
TZNAME:PST
END:STANDARD
END:VTIMEZONE
END:VCALENDAR