BEGIN:VCALENDAR
VERSION:2.0
PRODID:-//wp-events-plugin.com//7.2.3.1//EN
TZID:America/Los_Angeles
X-WR-TIMEZONE:America/Los_Angeles
BEGIN:VEVENT
UID:772@btrpc.com
DTSTART;TZID=America/Los_Angeles:20260718T090000
DTEND;TZID=America/Los_Angeles:20260718T130000
DTSTAMP:20260218T010735Z
URL:https://btrpc.com/events/cast-bullet-match-13/
SUMMARY:Cast Bullet Match
DESCRIPTION:Cast bullet rifle or handgun match\, shooters choice. 40 round 
 match with 10 sighters (50 total). Shoot at full size NRA silhouette steel
  targets at 50\, 100\, 150\, and 200 meters. Offhand shooting position enc
 ouraged with rifles. Benchrest or your preferred position with handguns. J
 acketed bullets ok with handguns. $5 entry fee. Contact Dan Geisert for mo
 re information 971-241-8658
CATEGORIES:Rifle Range,Single or Partial Range CLOSED for Event
LOCATION:Big Timber Rifle and Pistol Club\, 158 Wade Rd\, Siletz\, Oregon\,
  97380\, United States
X-APPLE-STRUCTURED-LOCATION;VALUE=URI;X-ADDRESS=158 Wade Rd\, Siletz\, Oreg
 on\, 97380\, United States;X-APPLE-RADIUS=100;X-TITLE=Big Timber Rifle and
  Pistol Club:geo:0,0
END:VEVENT
BEGIN:VTIMEZONE
TZID:America/Los_Angeles
X-LIC-LOCATION:America/Los_Angeles
BEGIN:DAYLIGHT
DTSTART:20260308T030000
TZOFFSETFROM:-0800
TZOFFSETTO:-0700
TZNAME:PDT
END:DAYLIGHT
END:VTIMEZONE
END:VCALENDAR