BEGIN:VCALENDAR
VERSION:2.0
PRODID:-//wp-events-plugin.com//7.2.3.1//EN
TZID:America/Los_Angeles
X-WR-TIMEZONE:America/Los_Angeles
BEGIN:VEVENT
UID:252@btrpc.com
DTSTART;TZID=America/Los_Angeles:20220826T120000
DTEND;TZID=America/Los_Angeles:20220826T170000
DTSTAMP:20220821T021658Z
URL:https://btrpc.com/events/pistol-range-closed/
SUMMARY:Pistol Range Closed
DESCRIPTION:Concrete pad will be poured at the pistol range.  This will be 
 the beginning for the separation wall between the pistol range and 50 yard
  range.  Thank you for your patience and understanding.
CATEGORIES:Pistol Range CLOSED
LOCATION:Big Timber Rifle and Pistol Club\, 158 Wade Rd\, Siletz\, Oregon\,
  97380\, United States
X-APPLE-STRUCTURED-LOCATION;VALUE=URI;X-ADDRESS=158 Wade Rd\, Siletz\, Oreg
 on\, 97380\, United States;X-APPLE-RADIUS=100;X-TITLE=Big Timber Rifle and
  Pistol Club:geo:0,0
END:VEVENT
BEGIN:VTIMEZONE
TZID:America/Los_Angeles
X-LIC-LOCATION:America/Los_Angeles
BEGIN:DAYLIGHT
DTSTART:20220313T030000
TZOFFSETFROM:-0800
TZOFFSETTO:-0700
TZNAME:PDT
END:DAYLIGHT
END:VTIMEZONE
END:VCALENDAR