BEGIN:VCALENDAR
VERSION:2.0
PRODID:-//wp-events-plugin.com//7.2.3.1//EN
TZID:America/Los_Angeles
X-WR-TIMEZONE:America/Los_Angeles
BEGIN:VEVENT
UID:560@btrpc.com
DTSTART;TZID=America/Los_Angeles:20241123T090000
DTEND;TZID=America/Los_Angeles:20241123T160000
DTSTAMP:20251013T012024Z
URL:https://btrpc.com/events/turkey-shoot-4/
SUMMARY:Turkey Shoot
DESCRIPTION:Turkey Shoot Rules\nAnnual Turkey Shoot - 3 events: scoped rifl
 e\, iron sights and pistol. Hit the target and win a turkey or ham. All sh
 ooting to be done from the standing position unless you have a disability.
LOCATION:Big Timber Rifle and Pistol Club\, 158 Wade Rd\, Siletz\, Oregon\,
  97380\, United States
X-APPLE-STRUCTURED-LOCATION;VALUE=URI;X-ADDRESS=158 Wade Rd\, Siletz\, Oreg
 on\, 97380\, United States;X-APPLE-RADIUS=100;X-TITLE=Big Timber Rifle and
  Pistol Club:geo:0,0
END:VEVENT
BEGIN:VTIMEZONE
TZID:America/Los_Angeles
X-LIC-LOCATION:America/Los_Angeles
BEGIN:STANDARD
DTSTART:20241103T010000
TZOFFSETFROM:-0700
TZOFFSETTO:-0800
TZNAME:PST
END:STANDARD
END:VTIMEZONE
END:VCALENDAR